BEGIN:VCALENDAR
VERSION:2.0
PRODID:-//ACR Health - ECPv6.15.17.1//NONSGML v1.0//EN
CALSCALE:GREGORIAN
METHOD:PUBLISH
X-WR-CALNAME:ACR Health
X-ORIGINAL-URL:https://acrhealth.org
X-WR-CALDESC:Events for ACR Health
REFRESH-INTERVAL;VALUE=DURATION:PT1H
X-Robots-Tag:noindex
X-PUBLISHED-TTL:PT1H
BEGIN:VTIMEZONE
TZID:America/New_York
BEGIN:DAYLIGHT
TZOFFSETFROM:-0500
TZOFFSETTO:-0400
TZNAME:EDT
DTSTART:20210314T070000
END:DAYLIGHT
BEGIN:STANDARD
TZOFFSETFROM:-0400
TZOFFSETTO:-0500
TZNAME:EST
DTSTART:20211107T060000
END:STANDARD
BEGIN:DAYLIGHT
TZOFFSETFROM:-0500
TZOFFSETTO:-0400
TZNAME:EDT
DTSTART:20220313T070000
END:DAYLIGHT
BEGIN:STANDARD
TZOFFSETFROM:-0400
TZOFFSETTO:-0500
TZNAME:EST
DTSTART:20221106T060000
END:STANDARD
BEGIN:DAYLIGHT
TZOFFSETFROM:-0500
TZOFFSETTO:-0400
TZNAME:EDT
DTSTART:20230312T070000
END:DAYLIGHT
BEGIN:STANDARD
TZOFFSETFROM:-0400
TZOFFSETTO:-0500
TZNAME:EST
DTSTART:20231105T060000
END:STANDARD
END:VTIMEZONE
BEGIN:VEVENT
DTSTART;TZID=America/New_York:20221006T100000
DTEND;TZID=America/New_York:20221006T113000
DTSTAMP:20260420T174233
CREATED:20251014T184304Z
LAST-MODIFIED:20251014T184304Z
UID:2558-1665050400-1665055800@acrhealth.org
SUMMARY:Enjoy Games - then join us for Jeopardy hosted by the Center of Expertise!!
DESCRIPTION:Game Time.  Join the Center for Expertise at ACR Health for a great day of Jeopardy!  Learn about Harm Reduction and Have FUN!  Register today!!  Hope to see you there!!
URL:https://acrhealth.org/event/enjoy-games-then-join-us-for-jeopardy-hosted-by-the-center-of-expertise/
CATEGORIES:COE
END:VEVENT
END:VCALENDAR