BEGIN:VCALENDAR
VERSION:2.0
PRODID:-//ACR Health - ECPv6.15.17.1//NONSGML v1.0//EN
CALSCALE:GREGORIAN
METHOD:PUBLISH
X-ORIGINAL-URL:https://acrhealth.org
X-WR-CALDESC:Events for ACR Health
REFRESH-INTERVAL;VALUE=DURATION:PT1H
X-Robots-Tag:noindex
X-PUBLISHED-TTL:PT1H
BEGIN:VTIMEZONE
TZID:America/New_York
BEGIN:DAYLIGHT
TZOFFSETFROM:-0500
TZOFFSETTO:-0400
TZNAME:EDT
DTSTART:20210314T070000
END:DAYLIGHT
BEGIN:STANDARD
TZOFFSETFROM:-0400
TZOFFSETTO:-0500
TZNAME:EST
DTSTART:20211107T060000
END:STANDARD
BEGIN:DAYLIGHT
TZOFFSETFROM:-0500
TZOFFSETTO:-0400
TZNAME:EDT
DTSTART:20220313T070000
END:DAYLIGHT
BEGIN:STANDARD
TZOFFSETFROM:-0400
TZOFFSETTO:-0500
TZNAME:EST
DTSTART:20221106T060000
END:STANDARD
BEGIN:DAYLIGHT
TZOFFSETFROM:-0500
TZOFFSETTO:-0400
TZNAME:EDT
DTSTART:20230312T070000
END:DAYLIGHT
BEGIN:STANDARD
TZOFFSETFROM:-0400
TZOFFSETTO:-0500
TZNAME:EST
DTSTART:20231105T060000
END:STANDARD
END:VTIMEZONE
BEGIN:VEVENT
DTSTART;TZID=America/New_York:20220725T103000
DTEND;TZID=America/New_York:20220804T150000
DTSTAMP:20260421T055516
CREATED:20251014T184257Z
LAST-MODIFIED:20251014T184257Z
UID:2555-1658745000-1659625200@acrhealth.org
SUMMARY:FREE Summer Camp for Youth 10-21 years of age!!
DESCRIPTION:ACR Health’s CAPP Team will be hosting a free eight day summer camp for youth 10 to 21 years old. The camp will run Monday through Thursday July 25th – August 4th from 10:30am to 3:00pm at the Q Center. Over the course of the camp\, participants will learn about pregnancy prevention\, STI prevention\, and healthy relationships. Activities like tie dye\, clay\, and yoga will also be available! Everything\, including lunch\, is FREE. Participants can also earn $100 in gift cards if they attend all 8 days! \nIf you have questions or would like to sign up\, please call/text 315-415-6041 or email \ncapp@acrhealth.org
URL:https://acrhealth.org/event/free-summer-camp-for-youth-10-21-years-of-age/
END:VEVENT
BEGIN:VEVENT
DTSTART;TZID=America/New_York:20220831T140000
DTEND;TZID=America/New_York:20220831T210000
DTSTAMP:20260421T055516
CREATED:20251014T184258Z
LAST-MODIFIED:20251014T184258Z
UID:2556-1661954400-1661979600@acrhealth.org
SUMMARY:1st Annual Overdose Prevention Day brought to you by ACR Health and Gilead Science.
DESCRIPTION:Join ACR Health and our community partners for our 1\nSt\n Annual Overdose Prevention Day.  This is a National Day to bring the community together to support one another\, share stories and celebrate the lives of those who have lost their lives due to overdose.  Show your community support and help put an end to this epidemic!!  There will be fun community activities\, food\, refreshments\, entertainment\, Narcan training\, speakers\, open mic and more\, all free to the community.  Mark your calendar today. \nWhen:  August 31\, 2022 \nSyracuse\, 627 W. Genesee Street\, Syracuse\, 2-6 pm \nUtica\, FT Proctor Park\, Utica\, 4-9 pm \nWatertown\, Thompson Park\, Kite Hill location\, 2-6 pm \nFor more information contact Mary Beth at (315) 898-2462 or\nmbanderson@acrhealth.org
URL:https://acrhealth.org/event/1st-annual-overdose-prevention-day-brought-to-you-by-acr-health-and-gilead-science/
END:VEVENT
END:VCALENDAR