BEGIN:VCALENDAR
VERSION:2.0
PRODID:-//ACR Health - ECPv6.15.17.1//NONSGML v1.0//EN
CALSCALE:GREGORIAN
METHOD:PUBLISH
X-WR-CALNAME:ACR Health
X-ORIGINAL-URL:https://acrhealth.org
X-WR-CALDESC:Events for ACR Health
REFRESH-INTERVAL;VALUE=DURATION:PT1H
X-Robots-Tag:noindex
X-PUBLISHED-TTL:PT1H
BEGIN:VTIMEZONE
TZID:America/New_York
BEGIN:DAYLIGHT
TZOFFSETFROM:-0500
TZOFFSETTO:-0400
TZNAME:EDT
DTSTART:20210314T070000
END:DAYLIGHT
BEGIN:STANDARD
TZOFFSETFROM:-0400
TZOFFSETTO:-0500
TZNAME:EST
DTSTART:20211107T060000
END:STANDARD
BEGIN:DAYLIGHT
TZOFFSETFROM:-0500
TZOFFSETTO:-0400
TZNAME:EDT
DTSTART:20220313T070000
END:DAYLIGHT
BEGIN:STANDARD
TZOFFSETFROM:-0400
TZOFFSETTO:-0500
TZNAME:EST
DTSTART:20221106T060000
END:STANDARD
BEGIN:DAYLIGHT
TZOFFSETFROM:-0500
TZOFFSETTO:-0400
TZNAME:EDT
DTSTART:20230312T070000
END:DAYLIGHT
BEGIN:STANDARD
TZOFFSETFROM:-0400
TZOFFSETTO:-0500
TZNAME:EST
DTSTART:20231105T060000
END:STANDARD
END:VTIMEZONE
BEGIN:VEVENT
DTSTART;TZID=America/New_York:20221115T193000
DTEND;TZID=America/New_York:20221115T210000
DTSTAMP:20260420T174228
CREATED:20251014T184306Z
LAST-MODIFIED:20251014T184306Z
UID:2560-1668540600-1668546000@acrhealth.org
SUMMARY:Friends of the Central Library Presents Casey McQuistion
DESCRIPTION:We are thrilled to announce that Michael Kelly\, Northern New York Q Center Program Coordinator\, will be introducing bestselling author\, Casey McQuiston tomorrow evening at the Friends of the Central Library Author Series.     This event takes place on November 15\nth\n at 7:30 p.m. at the Crouse Hinds Theater.  \nCasey McQuiston\n is an author of New Adult fiction with a fun\, queer\, rom-com point of view. Their debut novel\,\nRed\, White & Royal Blue\n\, became a\nNew York Times\n bestseller and a recipient of the 2020 Alex Award. They followed up with the publication of\nOne Last Stop\n\, a New York City subway-inspired romance. A Louisiana native\, raised in a conservative\, religious home\, McQuiston uses their experience as inspiration to write stories that they would have wanted to read as a young\, queer person to feel less isolated. Their newest book\,\n I Kissed Shara Wheeler\n\, was released in 2022.   Purchase tickets online at  \nTicket Information \n\n or at the Oncenter box office.
URL:https://acrhealth.org/event/friends-of-the-central-library-presents-casey-mcquistion/
END:VEVENT
END:VCALENDAR