BEGIN:VCALENDAR
VERSION:2.0
PRODID:-//ACR Health - ECPv6.15.17.1//NONSGML v1.0//EN
CALSCALE:GREGORIAN
METHOD:PUBLISH
X-WR-CALNAME:ACR Health
X-ORIGINAL-URL:https://acrhealth.org
X-WR-CALDESC:Events for ACR Health
REFRESH-INTERVAL;VALUE=DURATION:PT1H
X-Robots-Tag:noindex
X-PUBLISHED-TTL:PT1H
BEGIN:VTIMEZONE
TZID:America/New_York
BEGIN:DAYLIGHT
TZOFFSETFROM:-0500
TZOFFSETTO:-0400
TZNAME:EDT
DTSTART:20210314T070000
END:DAYLIGHT
BEGIN:STANDARD
TZOFFSETFROM:-0400
TZOFFSETTO:-0500
TZNAME:EST
DTSTART:20211107T060000
END:STANDARD
BEGIN:DAYLIGHT
TZOFFSETFROM:-0500
TZOFFSETTO:-0400
TZNAME:EDT
DTSTART:20220313T070000
END:DAYLIGHT
BEGIN:STANDARD
TZOFFSETFROM:-0400
TZOFFSETTO:-0500
TZNAME:EST
DTSTART:20221106T060000
END:STANDARD
BEGIN:DAYLIGHT
TZOFFSETFROM:-0500
TZOFFSETTO:-0400
TZNAME:EDT
DTSTART:20230312T070000
END:DAYLIGHT
BEGIN:STANDARD
TZOFFSETFROM:-0400
TZOFFSETTO:-0500
TZNAME:EST
DTSTART:20231105T060000
END:STANDARD
END:VTIMEZONE
BEGIN:VEVENT
DTSTART;TZID=America/New_York:20221104T150000
DTEND;TZID=America/New_York:20221104T170000
DTSTAMP:20260424T095426
CREATED:20251014T184305Z
LAST-MODIFIED:20251014T184305Z
UID:2559-1667574000-1667581200@acrhealth.org
SUMMARY:Join ACR Health for our Watertown Grand Opening
DESCRIPTION:We are so thrilled to open a permanent ACR Health in Watertown\, NY.  Please join us to learn more about our organization and the services we provide the community.  Hope to see you there!! \nWatertown Grand Opening (1)
URL:https://acrhealth.org/event/join-acr-health-for-our-watertown-grand-opening/
END:VEVENT
END:VCALENDAR